BEGIN:VCALENDAR
VERSION:2.0
PRODID:-//Edgecomb Community Church - ECPv6.15.20//NONSGML v1.0//EN
CALSCALE:GREGORIAN
METHOD:PUBLISH
X-ORIGINAL-URL:https://edgecombchurch.org
X-WR-CALDESC:Events for Edgecomb Community Church
REFRESH-INTERVAL;VALUE=DURATION:PT1H
X-Robots-Tag:noindex
X-PUBLISHED-TTL:PT1H
BEGIN:VTIMEZONE
TZID:UTC
BEGIN:STANDARD
TZOFFSETFROM:+0000
TZOFFSETTO:+0000
TZNAME:UTC
DTSTART:20250101T000000
END:STANDARD
END:VTIMEZONE
BEGIN:VEVENT
DTSTART;TZID=UTC:20260505T120000
DTEND;TZID=UTC:20260505T130000
DTSTAMP:20260424T085549
CREATED:20250904T001707Z
LAST-MODIFIED:20260323T154502Z
UID:10019116-1777982400-1777986000@edgecombchurch.org
SUMMARY:Tuesday Community Lunch
DESCRIPTION:Join us for a free Community Lunch each 1st and 3rd Tuesday of the month in Fellowship Hall.  Donations accepted.
URL:https://edgecombchurch.org/event/tuesday-lunch-8-2/2026-05-05/
LOCATION:Edgecomb Community Church\, 15 Cross Point Road\, Edgecomb\, ME\, 04556\, United States
ORGANIZER;CN="Edgecomb Community Church UCC":MAILTO:edgecomb.church@gmail.com
END:VEVENT
BEGIN:VEVENT
DTSTART;TZID=UTC:20260519T120000
DTEND;TZID=UTC:20260519T130000
DTSTAMP:20260424T085549
CREATED:20260323T154824Z
LAST-MODIFIED:20260323T154944Z
UID:10019122-1779192000-1779195600@edgecombchurch.org
SUMMARY:Tuesday Community Lunch
DESCRIPTION:Join us for a free Community Lunch each 1st and 3rd Tuesday of the month in Fellowship Hall.  Donations accepted.
URL:https://edgecombchurch.org/event/tuesday-lunch-8-3/2026-05-19/
LOCATION:Edgecomb Community Church\, 15 Cross Point Road\, Edgecomb\, ME\, 04556\, United States
ORGANIZER;CN="Edgecomb Community Church UCC":MAILTO:edgecomb.church@gmail.com
END:VEVENT
BEGIN:VEVENT
DTSTART;TZID=UTC:20260527T130000
DTEND;TZID=UTC:20260527T150000
DTSTAMP:20260424T085549
CREATED:20241205T120130Z
LAST-MODIFIED:20241205T120130Z
UID:10001771-1779886800-1779894000@edgecombchurch.org
SUMMARY:Busy Hands
DESCRIPTION:Busy Hands will meet at the church fellowship hall from 1-3 p.m.
URL:https://edgecombchurch.org/event/busy-hands-2/2026-05-27/
LOCATION:Edgecomb Community Church\, 15 Cross Point Road\, Edgecomb\, ME\, 04556\, United States
ORGANIZER;CN="Edgecomb Community Church UCC":MAILTO:edgecomb.church@gmail.com
END:VEVENT
BEGIN:VEVENT
DTSTART;TZID=UTC:20260602T120000
DTEND;TZID=UTC:20260602T130000
DTSTAMP:20260424T085549
CREATED:20250904T001707Z
LAST-MODIFIED:20260323T154502Z
UID:10019117-1780401600-1780405200@edgecombchurch.org
SUMMARY:Tuesday Community Lunch
DESCRIPTION:Join us for a free Community Lunch each 1st and 3rd Tuesday of the month in Fellowship Hall.  Donations accepted.
URL:https://edgecombchurch.org/event/tuesday-lunch-8-2/2026-06-02/
LOCATION:Edgecomb Community Church\, 15 Cross Point Road\, Edgecomb\, ME\, 04556\, United States
ORGANIZER;CN="Edgecomb Community Church UCC":MAILTO:edgecomb.church@gmail.com
END:VEVENT
BEGIN:VEVENT
DTSTART;TZID=UTC:20260616T120000
DTEND;TZID=UTC:20260616T130000
DTSTAMP:20260424T085549
CREATED:20260323T154824Z
LAST-MODIFIED:20260323T154944Z
UID:10019123-1781611200-1781614800@edgecombchurch.org
SUMMARY:Tuesday Community Lunch
DESCRIPTION:Join us for a free Community Lunch each 1st and 3rd Tuesday of the month in Fellowship Hall.  Donations accepted.
URL:https://edgecombchurch.org/event/tuesday-lunch-8-3/2026-06-16/
LOCATION:Edgecomb Community Church\, 15 Cross Point Road\, Edgecomb\, ME\, 04556\, United States
ORGANIZER;CN="Edgecomb Community Church UCC":MAILTO:edgecomb.church@gmail.com
END:VEVENT
BEGIN:VEVENT
DTSTART;TZID=UTC:20260624T130000
DTEND;TZID=UTC:20260624T150000
DTSTAMP:20260424T085549
CREATED:20241205T120130Z
LAST-MODIFIED:20241205T120130Z
UID:10001772-1782306000-1782313200@edgecombchurch.org
SUMMARY:Busy Hands
DESCRIPTION:Busy Hands will meet at the church fellowship hall from 1-3 p.m.
URL:https://edgecombchurch.org/event/busy-hands-2/2026-06-24/
LOCATION:Edgecomb Community Church\, 15 Cross Point Road\, Edgecomb\, ME\, 04556\, United States
ORGANIZER;CN="Edgecomb Community Church UCC":MAILTO:edgecomb.church@gmail.com
END:VEVENT
BEGIN:VEVENT
DTSTART;TZID=UTC:20260707T120000
DTEND;TZID=UTC:20260707T130000
DTSTAMP:20260424T085549
CREATED:20250904T001707Z
LAST-MODIFIED:20260323T154502Z
UID:10019118-1783425600-1783429200@edgecombchurch.org
SUMMARY:Tuesday Community Lunch
DESCRIPTION:Join us for a free Community Lunch each 1st and 3rd Tuesday of the month in Fellowship Hall.  Donations accepted.
URL:https://edgecombchurch.org/event/tuesday-lunch-8-2/2026-07-07/
LOCATION:Edgecomb Community Church\, 15 Cross Point Road\, Edgecomb\, ME\, 04556\, United States
ORGANIZER;CN="Edgecomb Community Church UCC":MAILTO:edgecomb.church@gmail.com
END:VEVENT
BEGIN:VEVENT
DTSTART;TZID=UTC:20260721T120000
DTEND;TZID=UTC:20260721T130000
DTSTAMP:20260424T085549
CREATED:20260323T154824Z
LAST-MODIFIED:20260323T154944Z
UID:10019124-1784635200-1784638800@edgecombchurch.org
SUMMARY:Tuesday Community Lunch
DESCRIPTION:Join us for a free Community Lunch each 1st and 3rd Tuesday of the month in Fellowship Hall.  Donations accepted.
URL:https://edgecombchurch.org/event/tuesday-lunch-8-3/2026-07-21/
LOCATION:Edgecomb Community Church\, 15 Cross Point Road\, Edgecomb\, ME\, 04556\, United States
ORGANIZER;CN="Edgecomb Community Church UCC":MAILTO:edgecomb.church@gmail.com
END:VEVENT
BEGIN:VEVENT
DTSTART;TZID=UTC:20260722T130000
DTEND;TZID=UTC:20260722T150000
DTSTAMP:20260424T085549
CREATED:20241205T120130Z
LAST-MODIFIED:20241205T120130Z
UID:10001773-1784725200-1784732400@edgecombchurch.org
SUMMARY:Busy Hands
DESCRIPTION:Busy Hands will meet at the church fellowship hall from 1-3 p.m.
URL:https://edgecombchurch.org/event/busy-hands-2/2026-07-22/
LOCATION:Edgecomb Community Church\, 15 Cross Point Road\, Edgecomb\, ME\, 04556\, United States
ORGANIZER;CN="Edgecomb Community Church UCC":MAILTO:edgecomb.church@gmail.com
END:VEVENT
BEGIN:VEVENT
DTSTART;TZID=UTC:20260804T120000
DTEND;TZID=UTC:20260804T130000
DTSTAMP:20260424T085549
CREATED:20250904T001707Z
LAST-MODIFIED:20260323T154502Z
UID:10019119-1785844800-1785848400@edgecombchurch.org
SUMMARY:Tuesday Community Lunch
DESCRIPTION:Join us for a free Community Lunch each 1st and 3rd Tuesday of the month in Fellowship Hall.  Donations accepted.
URL:https://edgecombchurch.org/event/tuesday-lunch-8-2/2026-08-04/
LOCATION:Edgecomb Community Church\, 15 Cross Point Road\, Edgecomb\, ME\, 04556\, United States
ORGANIZER;CN="Edgecomb Community Church UCC":MAILTO:edgecomb.church@gmail.com
END:VEVENT
BEGIN:VEVENT
DTSTART;TZID=UTC:20260818T120000
DTEND;TZID=UTC:20260818T130000
DTSTAMP:20260424T085549
CREATED:20260323T154824Z
LAST-MODIFIED:20260323T154944Z
UID:10019125-1787054400-1787058000@edgecombchurch.org
SUMMARY:Tuesday Community Lunch
DESCRIPTION:Join us for a free Community Lunch each 1st and 3rd Tuesday of the month in Fellowship Hall.  Donations accepted.
URL:https://edgecombchurch.org/event/tuesday-lunch-8-3/2026-08-18/
LOCATION:Edgecomb Community Church\, 15 Cross Point Road\, Edgecomb\, ME\, 04556\, United States
ORGANIZER;CN="Edgecomb Community Church UCC":MAILTO:edgecomb.church@gmail.com
END:VEVENT
BEGIN:VEVENT
DTSTART;TZID=UTC:20260826T130000
DTEND;TZID=UTC:20260826T150000
DTSTAMP:20260424T085549
CREATED:20241205T120130Z
LAST-MODIFIED:20241205T120130Z
UID:10001774-1787749200-1787756400@edgecombchurch.org
SUMMARY:Busy Hands
DESCRIPTION:Busy Hands will meet at the church fellowship hall from 1-3 p.m.
URL:https://edgecombchurch.org/event/busy-hands-2/2026-08-26/
LOCATION:Edgecomb Community Church\, 15 Cross Point Road\, Edgecomb\, ME\, 04556\, United States
ORGANIZER;CN="Edgecomb Community Church UCC":MAILTO:edgecomb.church@gmail.com
END:VEVENT
BEGIN:VEVENT
DTSTART;TZID=UTC:20260901T120000
DTEND;TZID=UTC:20260901T130000
DTSTAMP:20260424T085549
CREATED:20250904T001707Z
LAST-MODIFIED:20260323T154502Z
UID:10019120-1788264000-1788267600@edgecombchurch.org
SUMMARY:Tuesday Community Lunch
DESCRIPTION:Join us for a free Community Lunch each 1st and 3rd Tuesday of the month in Fellowship Hall.  Donations accepted.
URL:https://edgecombchurch.org/event/tuesday-lunch-8-2/2026-09-01/
LOCATION:Edgecomb Community Church\, 15 Cross Point Road\, Edgecomb\, ME\, 04556\, United States
ORGANIZER;CN="Edgecomb Community Church UCC":MAILTO:edgecomb.church@gmail.com
END:VEVENT
BEGIN:VEVENT
DTSTART;TZID=UTC:20260915T120000
DTEND;TZID=UTC:20260915T130000
DTSTAMP:20260424T085549
CREATED:20260323T154824Z
LAST-MODIFIED:20260323T154944Z
UID:10019126-1789473600-1789477200@edgecombchurch.org
SUMMARY:Tuesday Community Lunch
DESCRIPTION:Join us for a free Community Lunch each 1st and 3rd Tuesday of the month in Fellowship Hall.  Donations accepted.
URL:https://edgecombchurch.org/event/tuesday-lunch-8-3/2026-09-15/
LOCATION:Edgecomb Community Church\, 15 Cross Point Road\, Edgecomb\, ME\, 04556\, United States
ORGANIZER;CN="Edgecomb Community Church UCC":MAILTO:edgecomb.church@gmail.com
END:VEVENT
BEGIN:VEVENT
DTSTART;TZID=UTC:20260923T130000
DTEND;TZID=UTC:20260923T150000
DTSTAMP:20260424T085549
CREATED:20241205T120130Z
LAST-MODIFIED:20241205T120130Z
UID:10001775-1790168400-1790175600@edgecombchurch.org
SUMMARY:Busy Hands
DESCRIPTION:Busy Hands will meet at the church fellowship hall from 1-3 p.m.
URL:https://edgecombchurch.org/event/busy-hands-2/2026-09-23/
LOCATION:Edgecomb Community Church\, 15 Cross Point Road\, Edgecomb\, ME\, 04556\, United States
ORGANIZER;CN="Edgecomb Community Church UCC":MAILTO:edgecomb.church@gmail.com
END:VEVENT
BEGIN:VEVENT
DTSTART;TZID=UTC:20261006T120000
DTEND;TZID=UTC:20261006T130000
DTSTAMP:20260424T085549
CREATED:20250904T001707Z
LAST-MODIFIED:20260323T154502Z
UID:10019121-1791288000-1791291600@edgecombchurch.org
SUMMARY:Tuesday Community Lunch
DESCRIPTION:Join us for a free Community Lunch each 1st and 3rd Tuesday of the month in Fellowship Hall.  Donations accepted.
URL:https://edgecombchurch.org/event/tuesday-lunch-8-2/2026-10-06/
LOCATION:Edgecomb Community Church\, 15 Cross Point Road\, Edgecomb\, ME\, 04556\, United States
ORGANIZER;CN="Edgecomb Community Church UCC":MAILTO:edgecomb.church@gmail.com
END:VEVENT
BEGIN:VEVENT
DTSTART;TZID=UTC:20261020T120000
DTEND;TZID=UTC:20261020T130000
DTSTAMP:20260424T085549
CREATED:20260323T154824Z
LAST-MODIFIED:20260323T154944Z
UID:10019127-1792497600-1792501200@edgecombchurch.org
SUMMARY:Tuesday Community Lunch
DESCRIPTION:Join us for a free Community Lunch each 1st and 3rd Tuesday of the month in Fellowship Hall.  Donations accepted.
URL:https://edgecombchurch.org/event/tuesday-lunch-8-3/2026-10-20/
LOCATION:Edgecomb Community Church\, 15 Cross Point Road\, Edgecomb\, ME\, 04556\, United States
ORGANIZER;CN="Edgecomb Community Church UCC":MAILTO:edgecomb.church@gmail.com
END:VEVENT
BEGIN:VEVENT
DTSTART;TZID=UTC:20261028T130000
DTEND;TZID=UTC:20261028T150000
DTSTAMP:20260424T085549
CREATED:20241205T120130Z
LAST-MODIFIED:20241205T120130Z
UID:10001776-1793192400-1793199600@edgecombchurch.org
SUMMARY:Busy Hands
DESCRIPTION:Busy Hands will meet at the church fellowship hall from 1-3 p.m.
URL:https://edgecombchurch.org/event/busy-hands-2/2026-10-28/
LOCATION:Edgecomb Community Church\, 15 Cross Point Road\, Edgecomb\, ME\, 04556\, United States
ORGANIZER;CN="Edgecomb Community Church UCC":MAILTO:edgecomb.church@gmail.com
END:VEVENT
BEGIN:VEVENT
DTSTART;TZID=UTC:20261117T120000
DTEND;TZID=UTC:20261117T130000
DTSTAMP:20260424T085549
CREATED:20260323T154824Z
LAST-MODIFIED:20260323T154944Z
UID:10019128-1794916800-1794920400@edgecombchurch.org
SUMMARY:Tuesday Community Lunch
DESCRIPTION:Join us for a free Community Lunch each 1st and 3rd Tuesday of the month in Fellowship Hall.  Donations accepted.
URL:https://edgecombchurch.org/event/tuesday-lunch-8-3/2026-11-17/
LOCATION:Edgecomb Community Church\, 15 Cross Point Road\, Edgecomb\, ME\, 04556\, United States
ORGANIZER;CN="Edgecomb Community Church UCC":MAILTO:edgecomb.church@gmail.com
END:VEVENT
BEGIN:VEVENT
DTSTART;TZID=UTC:20261125T130000
DTEND;TZID=UTC:20261125T150000
DTSTAMP:20260424T085549
CREATED:20241205T120130Z
LAST-MODIFIED:20241205T120130Z
UID:10001777-1795611600-1795618800@edgecombchurch.org
SUMMARY:Busy Hands
DESCRIPTION:Busy Hands will meet at the church fellowship hall from 1-3 p.m.
URL:https://edgecombchurch.org/event/busy-hands-2/2026-11-25/
LOCATION:Edgecomb Community Church\, 15 Cross Point Road\, Edgecomb\, ME\, 04556\, United States
ORGANIZER;CN="Edgecomb Community Church UCC":MAILTO:edgecomb.church@gmail.com
END:VEVENT
BEGIN:VEVENT
DTSTART;TZID=UTC:20261215T120000
DTEND;TZID=UTC:20261215T130000
DTSTAMP:20260424T085549
CREATED:20260323T154824Z
LAST-MODIFIED:20260323T154944Z
UID:10019129-1797336000-1797339600@edgecombchurch.org
SUMMARY:Tuesday Community Lunch
DESCRIPTION:Join us for a free Community Lunch each 1st and 3rd Tuesday of the month in Fellowship Hall.  Donations accepted.
URL:https://edgecombchurch.org/event/tuesday-lunch-8-3/2026-12-15/
LOCATION:Edgecomb Community Church\, 15 Cross Point Road\, Edgecomb\, ME\, 04556\, United States
ORGANIZER;CN="Edgecomb Community Church UCC":MAILTO:edgecomb.church@gmail.com
END:VEVENT
BEGIN:VEVENT
DTSTART;TZID=UTC:20261223T130000
DTEND;TZID=UTC:20261223T150000
DTSTAMP:20260424T085549
CREATED:20241205T120130Z
LAST-MODIFIED:20241205T120130Z
UID:10001778-1798030800-1798038000@edgecombchurch.org
SUMMARY:Busy Hands
DESCRIPTION:Busy Hands will meet at the church fellowship hall from 1-3 p.m.
URL:https://edgecombchurch.org/event/busy-hands-2/2026-12-23/
LOCATION:Edgecomb Community Church\, 15 Cross Point Road\, Edgecomb\, ME\, 04556\, United States
ORGANIZER;CN="Edgecomb Community Church UCC":MAILTO:edgecomb.church@gmail.com
END:VEVENT
BEGIN:VEVENT
DTSTART;TZID=UTC:20270119T120000
DTEND;TZID=UTC:20270119T130000
DTSTAMP:20260424T085549
CREATED:20260323T154824Z
LAST-MODIFIED:20260323T154944Z
UID:10019130-1800360000-1800363600@edgecombchurch.org
SUMMARY:Tuesday Community Lunch
DESCRIPTION:Join us for a free Community Lunch each 1st and 3rd Tuesday of the month in Fellowship Hall.  Donations accepted.
URL:https://edgecombchurch.org/event/tuesday-lunch-8-3/2027-01-19/
LOCATION:Edgecomb Community Church\, 15 Cross Point Road\, Edgecomb\, ME\, 04556\, United States
ORGANIZER;CN="Edgecomb Community Church UCC":MAILTO:edgecomb.church@gmail.com
END:VEVENT
BEGIN:VEVENT
DTSTART;TZID=UTC:20270127T130000
DTEND;TZID=UTC:20270127T150000
DTSTAMP:20260424T085549
CREATED:20241205T120130Z
LAST-MODIFIED:20241205T120130Z
UID:10001779-1801054800-1801062000@edgecombchurch.org
SUMMARY:Busy Hands
DESCRIPTION:Busy Hands will meet at the church fellowship hall from 1-3 p.m.
URL:https://edgecombchurch.org/event/busy-hands-2/2027-01-27/
LOCATION:Edgecomb Community Church\, 15 Cross Point Road\, Edgecomb\, ME\, 04556\, United States
ORGANIZER;CN="Edgecomb Community Church UCC":MAILTO:edgecomb.church@gmail.com
END:VEVENT
BEGIN:VEVENT
DTSTART;TZID=UTC:20270216T120000
DTEND;TZID=UTC:20270216T130000
DTSTAMP:20260424T085549
CREATED:20260323T154824Z
LAST-MODIFIED:20260323T154944Z
UID:10019131-1802779200-1802782800@edgecombchurch.org
SUMMARY:Tuesday Community Lunch
DESCRIPTION:Join us for a free Community Lunch each 1st and 3rd Tuesday of the month in Fellowship Hall.  Donations accepted.
URL:https://edgecombchurch.org/event/tuesday-lunch-8-3/2027-02-16/
LOCATION:Edgecomb Community Church\, 15 Cross Point Road\, Edgecomb\, ME\, 04556\, United States
ORGANIZER;CN="Edgecomb Community Church UCC":MAILTO:edgecomb.church@gmail.com
END:VEVENT
BEGIN:VEVENT
DTSTART;TZID=UTC:20270224T130000
DTEND;TZID=UTC:20270224T150000
DTSTAMP:20260424T085549
CREATED:20241205T120130Z
LAST-MODIFIED:20241205T120130Z
UID:10001780-1803474000-1803481200@edgecombchurch.org
SUMMARY:Busy Hands
DESCRIPTION:Busy Hands will meet at the church fellowship hall from 1-3 p.m.
URL:https://edgecombchurch.org/event/busy-hands-2/2027-02-24/
LOCATION:Edgecomb Community Church\, 15 Cross Point Road\, Edgecomb\, ME\, 04556\, United States
ORGANIZER;CN="Edgecomb Community Church UCC":MAILTO:edgecomb.church@gmail.com
END:VEVENT
BEGIN:VEVENT
DTSTART;TZID=UTC:20270316T120000
DTEND;TZID=UTC:20270316T130000
DTSTAMP:20260424T085549
CREATED:20260323T154824Z
LAST-MODIFIED:20260323T154944Z
UID:10019132-1805198400-1805202000@edgecombchurch.org
SUMMARY:Tuesday Community Lunch
DESCRIPTION:Join us for a free Community Lunch each 1st and 3rd Tuesday of the month in Fellowship Hall.  Donations accepted.
URL:https://edgecombchurch.org/event/tuesday-lunch-8-3/2027-03-16/
LOCATION:Edgecomb Community Church\, 15 Cross Point Road\, Edgecomb\, ME\, 04556\, United States
ORGANIZER;CN="Edgecomb Community Church UCC":MAILTO:edgecomb.church@gmail.com
END:VEVENT
BEGIN:VEVENT
DTSTART;TZID=UTC:20270324T130000
DTEND;TZID=UTC:20270324T150000
DTSTAMP:20260424T085549
CREATED:20241205T120130Z
LAST-MODIFIED:20241205T120130Z
UID:10001781-1805893200-1805900400@edgecombchurch.org
SUMMARY:Busy Hands
DESCRIPTION:Busy Hands will meet at the church fellowship hall from 1-3 p.m.
URL:https://edgecombchurch.org/event/busy-hands-2/2027-03-24/
LOCATION:Edgecomb Community Church\, 15 Cross Point Road\, Edgecomb\, ME\, 04556\, United States
ORGANIZER;CN="Edgecomb Community Church UCC":MAILTO:edgecomb.church@gmail.com
END:VEVENT
BEGIN:VEVENT
DTSTART;TZID=UTC:20270420T120000
DTEND;TZID=UTC:20270420T130000
DTSTAMP:20260424T085549
CREATED:20260323T154824Z
LAST-MODIFIED:20260323T154944Z
UID:10019133-1808222400-1808226000@edgecombchurch.org
SUMMARY:Tuesday Community Lunch
DESCRIPTION:Join us for a free Community Lunch each 1st and 3rd Tuesday of the month in Fellowship Hall.  Donations accepted.
URL:https://edgecombchurch.org/event/tuesday-lunch-8-3/2027-04-20/
LOCATION:Edgecomb Community Church\, 15 Cross Point Road\, Edgecomb\, ME\, 04556\, United States
ORGANIZER;CN="Edgecomb Community Church UCC":MAILTO:edgecomb.church@gmail.com
END:VEVENT
BEGIN:VEVENT
DTSTART;TZID=UTC:20270428T130000
DTEND;TZID=UTC:20270428T150000
DTSTAMP:20260424T085549
CREATED:20241205T120130Z
LAST-MODIFIED:20241205T120130Z
UID:10001782-1808917200-1808924400@edgecombchurch.org
SUMMARY:Busy Hands
DESCRIPTION:Busy Hands will meet at the church fellowship hall from 1-3 p.m.
URL:https://edgecombchurch.org/event/busy-hands-2/2027-04-28/
LOCATION:Edgecomb Community Church\, 15 Cross Point Road\, Edgecomb\, ME\, 04556\, United States
ORGANIZER;CN="Edgecomb Community Church UCC":MAILTO:edgecomb.church@gmail.com
END:VEVENT
END:VCALENDAR